BEGIN:VCALENDAR
VERSION:2.0
PRODID:-//EUConsult Italia - ECPv4.9.9//NONSGML v1.0//EN
CALSCALE:GREGORIAN
METHOD:PUBLISH
X-WR-CALNAME:EUConsult Italia
X-ORIGINAL-URL:https://www.euconsultitalia.org
X-WR-CALDESC:Eventi per EUConsult Italia
BEGIN:VTIMEZONE
TZID:Europe/Rome
BEGIN:DAYLIGHT
TZOFFSETFROM:+0100
TZOFFSETTO:+0200
TZNAME:CEST
DTSTART:20220327T010000
END:DAYLIGHT
BEGIN:STANDARD
TZOFFSETFROM:+0200
TZOFFSETTO:+0100
TZNAME:CET
DTSTART:20221030T010000
END:STANDARD
END:VTIMEZONE
BEGIN:VEVENT
DTSTART;TZID=Europe/Rome:20220915T180000
DTEND;TZID=Europe/Rome:20220915T183000
DTSTAMP:20260423T103035
CREATED:20220706T071052Z
LAST-MODIFIED:20220711T093228Z
UID:77385-1663264800-1663266600@www.euconsultitalia.org
SUMMARY:La responsabilità del dirigente associativo. Carla Lotti intervista Luca Concilio
DESCRIPTION:Le forme di responsabilità tipizzate nel Codice del Terzo Settore e l’art. 38 del Codice Civile:\nla gestione di una realtà associativa comporta l’assunzione di responsabilità da parte dei relativi dirigenti\, non solo nei confronti dell’associazione stessa\, ma anche verso i soggetti terzi nonché dello Stato. Il possesso della personalità giuridica da parte dell’associazione\, pur contemplando la “patrimonialità perfetta”\, non fa venir meno la responsabilità dei dirigenti nei casi previsti dal nuovo Codice del Terzo Settore. \nLuca Concilio \nL’avv. Luca Concilio ha conseguito la laurea in Giurisprudenza presso l’Università degli Studi di Salerno\, in seguito l’abilitazione all’esercizio della Professione forense.\nHa svolto un lungo periodo di formazione all’interno di studi specializzati nella consulenza e assistenza nei confronti degli Enti del Terzo Settore\, affinando le proprie competenze attraverso la partecipazione ad un Master specialistico in diritto Tributario\, organizzato dalla scuola di formazione Ipsoa.\nHa pubblicato numerosi articoli sulle questioni più spinose del Terzo Settore\, organizza convegni e corsi su tutto il territorio nazionale rivolti a dirigenti associativi e esperti del Terzo Settore.\nSvolge\, da oltre dieci anni\, attività di assistenza e consulenza su tutto il territorio nazionale nei confronti di Enti del Non Profit. E’ presidente nazionale di ACSE – (Associazione Cultura e Sport per l’Europa) ETS.\nE’ cofondatore del team degli Specialisti del Non Profit\, un gruppo di esperti specializzato nella consulenza e formazione agli Enti del Terzo Settore. \n
URL:https://www.euconsultitalia.org/event/la-responsabilita-del-dirigente-associativo-carla-lotti-intervista-luca-concilio/
LOCATION:Webinar online
ATTACH;FMTTYPE=image/jpeg:https://www.euconsultitalia.org/wp-content/uploads/2022/07/luca-concilio.jpg
END:VEVENT
END:VCALENDAR