BEGIN:VCALENDAR
VERSION:2.0
PRODID:-//EUConsult Italia - ECPv4.9.9//NONSGML v1.0//EN
CALSCALE:GREGORIAN
METHOD:PUBLISH
X-WR-CALNAME:EUConsult Italia
X-ORIGINAL-URL:https://www.euconsultitalia.org
X-WR-CALDESC:Eventi per EUConsult Italia
BEGIN:VTIMEZONE
TZID:Europe/Rome
BEGIN:DAYLIGHT
TZOFFSETFROM:+0100
TZOFFSETTO:+0200
TZNAME:CEST
DTSTART:20180325T010000
END:DAYLIGHT
BEGIN:STANDARD
TZOFFSETFROM:+0200
TZOFFSETTO:+0100
TZNAME:CET
DTSTART:20181028T010000
END:STANDARD
END:VTIMEZONE
BEGIN:VEVENT
DTSTART;TZID=Europe/Rome:20180315T140000
DTEND;TZID=Europe/Rome:20180316T170000
DTSTAMP:20260421T123939
CREATED:20191107T150819Z
LAST-MODIFIED:20191107T150819Z
UID:76159-1521122400-1521219600@www.euconsultitalia.org
SUMMARY:Spring Workshop – Frankfurt\, 15-16 March 2018
DESCRIPTION:Sconto promozionale per i soci EUConsult Italia. Maggiori dettagli sul sito www.euconsult.org \n
URL:https://www.euconsultitalia.org/event/spring-workshop-frankfurt-15-16-march-2018/
LOCATION:Francoforte\, Germania
END:VEVENT
END:VCALENDAR