BEGIN:VCALENDAR
VERSION:2.0
PRODID:-//EUConsult Italia - ECPv4.9.9//NONSGML v1.0//EN
CALSCALE:GREGORIAN
METHOD:PUBLISH
X-WR-CALNAME:EUConsult Italia
X-ORIGINAL-URL:https://www.euconsultitalia.org
X-WR-CALDESC:Eventi per EUConsult Italia
BEGIN:VTIMEZONE
TZID:Europe/Rome
BEGIN:DAYLIGHT
TZOFFSETFROM:+0100
TZOFFSETTO:+0200
TZNAME:CEST
DTSTART:20220327T010000
END:DAYLIGHT
BEGIN:STANDARD
TZOFFSETFROM:+0200
TZOFFSETTO:+0100
TZNAME:CET
DTSTART:20221030T010000
END:STANDARD
END:VTIMEZONE
BEGIN:VEVENT
DTSTART;TZID=Europe/Rome:20221103T180000
DTEND;TZID=Europe/Rome:20221103T183000
DTSTAMP:20260425T104802
CREATED:20220706T071425Z
LAST-MODIFIED:20220711T093438Z
UID:77389-1667498400-1667500200@www.euconsultitalia.org
SUMMARY:Terzo Settore\, narrazioni e talenti creativi. Carla Lotti intervista Giuseppe Jepis Rivello
DESCRIPTION:La narrazione che alimenta le strategie creative\, l’attivazione dei processi di ideazione per sviluppare contenuti all’interno degli Enti del terzo settore. La scelta dei linguaggi in base ai talenti creativi delle persone. Introdurre nella propria organizzazione un approccio vocato alla sperimentazione narrativa per distinguersi e creare consapevolezza grazie alla creazione dei contenuti. \nGiuseppe Jepis Rivello \nHa 32 anni e una laurea in comunicazione. Vive con la sua famiglia nel Cilento\, a Caselle in Pittari\, dove ha creato Jepis Bottega\, un luogo dove si crea\, si racconta e si ricrea. Crea e realizza contenuti per innovare\, immaginare nuovi scenari\, raccontare idee e storie delle piccole imprese\, progetti culturali e sociali. Disegna e anima ambienti dove le persone liberano la creatività per risolvere problemi e per comunicare se stessi e i loro progetti. Racconta storie di uomini e di donne che cambiano il mondo grazie al loro lavoro quotidiano e connette le loro storie con altre storie.\nE’ designer e formatore per progetti che riguardano l’ideazione di impresa\, le strategie di comunicazione\, l’ideazione e la produzione di contenuti multimediali. Autore di documentari e cortometraggi sul lavoro e sull’innovazione sociale e culturale su Storie di Bottega Nòva Il Sole 24 Ore. Tra gli animatori e coordinatori della comunità del Palio del Grano\, del Montefrumentario e del #Campdigrano di Caselle in Pittari.\nCo-autore\, insieme a Vincenzo Moretti\, del libro Parole Forgiate. Narratore nella comunità del #Lavorobenfatto. \n
URL:https://www.euconsultitalia.org/event/terzo-settore-narrazioni-e-talenti-creativi-carla-lotti-intervista-giuseppe-jepis-rivello/
LOCATION:Webinar online
ATTACH;FMTTYPE=image/jpeg:https://www.euconsultitalia.org/wp-content/uploads/2022/07/rivello.jpg
END:VEVENT
END:VCALENDAR