BEGIN:VCALENDAR
VERSION:2.0
PRODID:-//EUConsult Italia - ECPv4.9.9//NONSGML v1.0//EN
CALSCALE:GREGORIAN
METHOD:PUBLISH
X-WR-CALNAME:EUConsult Italia
X-ORIGINAL-URL:https://www.euconsultitalia.org
X-WR-CALDESC:Eventi per EUConsult Italia
BEGIN:VTIMEZONE
TZID:Europe/Rome
BEGIN:DAYLIGHT
TZOFFSETFROM:+0100
TZOFFSETTO:+0200
TZNAME:CEST
DTSTART:20260329T010000
END:DAYLIGHT
BEGIN:STANDARD
TZOFFSETFROM:+0200
TZOFFSETTO:+0100
TZNAME:CET
DTSTART:20261025T010000
END:STANDARD
END:VTIMEZONE
BEGIN:VEVENT
DTSTART;TZID=Europe/Rome:20261104T150000
DTEND;TZID=Europe/Rome:20261105T130000
DTSTAMP:20260420T082830
CREATED:20260320T095935Z
LAST-MODIFIED:20260320T095935Z
UID:78753-1793804400-1793883600@www.euconsultitalia.org
SUMMARY:Undicesima edizione dell'European Third Sector Forum!
DESCRIPTION:Torna l’European Third Sector Forum insieme all’EUconsult Italia Award. Ci vediamo a Roma il 4 e 5 novembre. \nPer info su programma\, relatori ed iscrizioni: www.etsforum.it \n
URL:https://www.euconsultitalia.org/event/undicesima-edizione-delleuropean-third-sector-forum/
LOCATION:Roma
ATTACH;FMTTYPE=image/jpeg:https://www.euconsultitalia.org/wp-content/uploads/2025/11/IMG_20251105_161608-scaled.jpg
END:VEVENT
END:VCALENDAR