BEGIN:VCALENDAR
VERSION:2.0
PRODID:-//EUConsult Italia - ECPv4.9.9//NONSGML v1.0//EN
CALSCALE:GREGORIAN
METHOD:PUBLISH
X-WR-CALNAME:EUConsult Italia
X-ORIGINAL-URL:https://www.euconsultitalia.org
X-WR-CALDESC:Eventi per EUConsult Italia
BEGIN:VTIMEZONE
TZID:Europe/Rome
BEGIN:DAYLIGHT
TZOFFSETFROM:+0100
TZOFFSETTO:+0200
TZNAME:CEST
DTSTART:20200329T010000
END:DAYLIGHT
BEGIN:STANDARD
TZOFFSETFROM:+0200
TZOFFSETTO:+0100
TZNAME:CET
DTSTART:20201025T010000
END:STANDARD
END:VTIMEZONE
BEGIN:VEVENT
DTSTART;TZID=Europe/Rome:20200417T180000
DTEND;TZID=Europe/Rome:20200417T183000
DTSTAMP:20260425T102234
CREATED:20200410T134829Z
LAST-MODIFIED:20200410T134829Z
UID:76480-1587146400-1587148200@www.euconsultitalia.org
SUMMARY:Webinar: "Terzo Settore: disciplina dei decreti sull'emergenza sanitaria"
DESCRIPTION:L’avvocato Aurora Donato terrà un webinar su “Terzo Settore: disciplina dei decreti sull’emergenza sanitaria” \nLe informazioni per prenotare un posto saranno visibili sulla pagine delle news di questo sito da lunedì 13 aprile. \n
URL:https://www.euconsultitalia.org/event/webinar-terzo-settore-disciplina-dei-decreti-sullemergenza-sanitaria/
ATTACH;FMTTYPE=image/jpeg:https://www.euconsultitalia.org/wp-content/uploads/2020/04/Aurora-Donato.jpg
END:VEVENT
END:VCALENDAR